BEGIN:VCALENDAR
VERSION:2.0
PRODID:-//Félag um innri endurskoðun - ECPv6.15.18//NONSGML v1.0//EN
CALSCALE:GREGORIAN
METHOD:PUBLISH
X-WR-CALNAME:Félag um innri endurskoðun
X-ORIGINAL-URL:https://fie.is
X-WR-CALDESC:Events for Félag um innri endurskoðun
REFRESH-INTERVAL;VALUE=DURATION:PT1H
X-Robots-Tag:noindex
X-PUBLISHED-TTL:PT1H
BEGIN:VTIMEZONE
TZID:UTC
BEGIN:STANDARD
TZOFFSETFROM:+0000
TZOFFSETTO:+0000
TZNAME:UTC
DTSTART:20180101T000000
END:STANDARD
END:VTIMEZONE
BEGIN:VEVENT
DTSTART;TZID=UTC:20191031T080000
DTEND;TZID=UTC:20191031T100000
DTSTAMP:20260422T153904
CREATED:20191008T191336Z
LAST-MODIFIED:20191008T191839Z
UID:2512-1572508800-1572516000@fie.is
SUMMARY:Morgunverðarfundur 31. október 2019 - Ófjárhagslegar upplýsingar og ábyrgar fjárfestingar frá sjónarhóli innri endurskoðunar
DESCRIPTION:
URL:https://fie.is/vidburdur/morgunverdarfundur-31-oktober-2019-ofjarhagslegar-upplysingar-og-abyrgar-fjarfestingar-fra-sjonarholi-innri-endurskodunar/
LOCATION:Grand Hótel Reykjavík\, Sigtúni 38\, Reykjavík\, 105\, Iceland
END:VEVENT
END:VCALENDAR