BEGIN:VCALENDAR
VERSION:2.0
PRODID:-//Félag um innri endurskoðun - ECPv6.15.18//NONSGML v1.0//EN
CALSCALE:GREGORIAN
METHOD:PUBLISH
X-ORIGINAL-URL:https://fie.is
X-WR-CALDESC:Events for Félag um innri endurskoðun
REFRESH-INTERVAL;VALUE=DURATION:PT1H
X-Robots-Tag:noindex
X-PUBLISHED-TTL:PT1H
BEGIN:VTIMEZONE
TZID:UTC
BEGIN:STANDARD
TZOFFSETFROM:+0000
TZOFFSETTO:+0000
TZNAME:UTC
DTSTART:20180101T000000
END:STANDARD
END:VTIMEZONE
BEGIN:VEVENT
DTSTART;TZID=UTC:20191120T080000
DTEND;TZID=UTC:20191120T100000
DTSTAMP:20260422T154014
CREATED:20191111T201543Z
LAST-MODIFIED:20191111T201543Z
UID:2582-1574236800-1574244000@fie.is
SUMMARY:Morgunverðarfundur 20. nóvember 2019
DESCRIPTION:Virðisaukandi aðferðir í innri endurskoðun\nThe Internal Audit Ambition Model (IIA) / Agile hugmyndafræði \nMorgunverðarfundur Félags um innri endurskoðun\nGrand hótel Reykjavík - Gallerí\nMiðvikudaginn 20. nóvember kl. 8:00-10:00 \nHvernig geta innri endurskoðendur þróað sína nálgun og aðferðafræði til að skila sýnilegu virði\, í heimi óvissu og sífellt hraðari breytinga? Erindi dagsins eru um The Internal Audit Ambition Model frá IIA og Agile hugmyndafræðina\, sem leið til að hjálpa fyrirtækjum að finna nýjar leiðir til að takast á við breytt umhverfi. \nIngunn Ólafsdóttir innri endurskoðandi Háskóla Íslands\, og formaður Félags um innri endurskoðun fjallar um The Internal Audit Ambition Model frá IIA. \nKristrún Anna Konráðsdóttir\, verkefnaráðgjafi hjá VÍS\, hefur ástríðu fyrir því að hjálpa fólki og fyrirtækjum að finna nýjar leiðir til að takast á við breytt umhverfi. Hún nýtir Agile hugmyndafræði til að spegla áskoranir og svara krefjandi spurningum. \nVerð: 5.500 kr. fyrir félagsmenn og kr. 6.500 fyrir utanfélagsmenn. Innifalinn morgunverður og kaffi.\nTvær endurmenntunareiningar í endurskoðunarflokki. \nSkráning er með tölvupósti á fie@fie.is\, fyrir kl.12 þann 18. nóvember
URL:https://fie.is/vidburdur/morgunverdarfundur-20-november-2019/
LOCATION:Grand Hótel Reykjavík\, Sigtúni 38\, Reykjavík\, 105\, Iceland
CATEGORIES:Fræðslunefndarfundur
END:VEVENT
END:VCALENDAR