BEGIN:VCALENDAR
VERSION:2.0
PRODID:-//Félag um innri endurskoðun - ECPv6.15.18//NONSGML v1.0//EN
CALSCALE:GREGORIAN
METHOD:PUBLISH
X-ORIGINAL-URL:https://fie.is
X-WR-CALDESC:Events for Félag um innri endurskoðun
REFRESH-INTERVAL;VALUE=DURATION:PT1H
X-Robots-Tag:noindex
X-PUBLISHED-TTL:PT1H
BEGIN:VTIMEZONE
TZID:UTC
BEGIN:STANDARD
TZOFFSETFROM:+0000
TZOFFSETTO:+0000
TZNAME:UTC
DTSTART:20190101T000000
END:STANDARD
END:VTIMEZONE
BEGIN:VEVENT
DTSTART;TZID=UTC:20200220T080000
DTEND;TZID=UTC:20200220T100000
DTSTAMP:20260422T105101
CREATED:20200216T222351Z
LAST-MODIFIED:20200216T223218Z
UID:2686-1582185600-1582192800@fie.is
SUMMARY:Morgunverðarfundur 20. febrúar 2020
DESCRIPTION:
URL:https://fie.is/vidburdur/morgunverdarfundur-20-februar-2020/
LOCATION:Grand Hótel Reykjavík\, Sigtúni 38\, Reykjavík\, 105\, Iceland
CATEGORIES:Fræðslunefndarfundur
END:VEVENT
END:VCALENDAR