BEGIN:VCALENDAR
VERSION:2.0
PRODID:-//Félag um innri endurskoðun - ECPv6.15.18//NONSGML v1.0//EN
CALSCALE:GREGORIAN
METHOD:PUBLISH
X-ORIGINAL-URL:https://fie.is
X-WR-CALDESC:Events for Félag um innri endurskoðun
REFRESH-INTERVAL;VALUE=DURATION:PT1H
X-Robots-Tag:noindex
X-PUBLISHED-TTL:PT1H
BEGIN:VTIMEZONE
TZID:UTC
BEGIN:STANDARD
TZOFFSETFROM:+0000
TZOFFSETTO:+0000
TZNAME:UTC
DTSTART:20190101T000000
END:STANDARD
END:VTIMEZONE
BEGIN:VEVENT
DTSTART;TZID=UTC:20200318T083000
DTEND;TZID=UTC:20200318T110000
DTSTAMP:20260422T093208
CREATED:20200216T223501Z
LAST-MODIFIED:20200309T184654Z
UID:2693-1584520200-1584529200@fie.is
SUMMARY:Innri endurskoðunardagurinn 2020 - FRESTAÐ
DESCRIPTION:Stjórn FIE hefur ákveðið að fresta Innri endurskoðunardeginum 2020 fram á haust vegna COVID-19. Nánari upplýsingar um dagsetningu og dagskrá ráðstefnunnar verða sendar út strax og þær liggja fyrir \nMeð góðum kveðjum\,\nStjórn FIE
URL:https://fie.is/vidburdur/innri-endurskodunardagurinn-2020/
LOCATION:Hótel Natura\, Nautholsvegur 52\, Reykjavík\, 101\, Iceland
CATEGORIES:Innri endurskoðunardagurinn
END:VEVENT
END:VCALENDAR