BEGIN:VCALENDAR
VERSION:2.0
PRODID:-//Félag um innri endurskoðun - ECPv6.15.18//NONSGML v1.0//EN
CALSCALE:GREGORIAN
METHOD:PUBLISH
X-WR-CALNAME:Félag um innri endurskoðun
X-ORIGINAL-URL:https://fie.is
X-WR-CALDESC:Events for Félag um innri endurskoðun
REFRESH-INTERVAL;VALUE=DURATION:PT1H
X-Robots-Tag:noindex
X-PUBLISHED-TTL:PT1H
BEGIN:VTIMEZONE
TZID:UTC
BEGIN:STANDARD
TZOFFSETFROM:+0000
TZOFFSETTO:+0000
TZNAME:UTC
DTSTART:20190101T000000
END:STANDARD
END:VTIMEZONE
BEGIN:VEVENT
DTSTART;TZID=UTC:20200925T081000
DTEND;TZID=UTC:20200925T100000
DTSTAMP:20260422T002541
CREATED:20200918T151247Z
LAST-MODIFIED:20200918T151247Z
UID:2813-1601021400-1601028000@fie.is
SUMMARY:Fræðslufundur FIE 25. september 2020
DESCRIPTION:
URL:https://fie.is/vidburdur/fraedslufundur-fie-25-september-2020/
END:VEVENT
END:VCALENDAR