BEGIN:VCALENDAR
VERSION:2.0
PRODID:-//Félag um innri endurskoðun - ECPv6.15.18//NONSGML v1.0//EN
CALSCALE:GREGORIAN
METHOD:PUBLISH
X-WR-CALNAME:Félag um innri endurskoðun
X-ORIGINAL-URL:https://fie.is
X-WR-CALDESC:Events for Félag um innri endurskoðun
REFRESH-INTERVAL;VALUE=DURATION:PT1H
X-Robots-Tag:noindex
X-PUBLISHED-TTL:PT1H
BEGIN:VTIMEZONE
TZID:UTC
BEGIN:STANDARD
TZOFFSETFROM:+0000
TZOFFSETTO:+0000
TZNAME:UTC
DTSTART:20200101T000000
END:STANDARD
END:VTIMEZONE
BEGIN:VEVENT
DTSTART;TZID=UTC:20210415T100000
DTEND;TZID=UTC:20210415T113000
DTSTAMP:20260421T140622
CREATED:20210412T142422Z
LAST-MODIFIED:20210412T142422Z
UID:3159-1618480800-1618486200@fie.is
SUMMARY:Gervigreind og endurskoðun – námskeið í streymi hjá Háskólanum í Reykjavík
DESCRIPTION:Gervigreind og notkun við endurskoðun almennt svo og endurskoðun smárra og millistórra eininga\, er umfjöllunarefnið. Haldið af Háskólanum í Reykjavík og streymt fimmtudaginn 15. apríl kl. 10-11:30\, en FLE styrkti rannsóknina sem námskeiðið byggir á. Þá verður líka horft á gervigreind í víðara samhengi út frá samkeppnishæfni Íslands og áhrif á 4. iðnbyltinguna. Aðgangur ókeypis og ekki þarf að skrá sig - sjá hér<https://www.ru.is/haskolinn/vidburdir-hr/allir-vidburdir/artificial-intelligence-and-auditing>. Námskeiðið gefur 1\,5 einingu í endurskoðun. Fyrirlestrar verða á ensku. Dagskrá er eftirfarandi: \n*   Dr. Páll Ríkharðsson hjá HR flytur inngangsorð\n*   Atli Þór Jóhannsson hjá PwC fjallar um Endurskoðendur og tækni\n*   Dr. Kristinn R. Þórisson hjá HR fjallar um gervigreind á Íslandi\n*   Dr. Páll Ríkharðsson fjallar um gervigreind og endurskoðun. \nArtificial Intelligence and Auditing. Open seminar on use of AI in auditing in general and auditing small and medium sized firms.The seminar draws on and closes a research project funded by Association of State Authorised in Iceland. Presents the results but also looks at AI in a wider perspective in terms of Icelands competitive position given the impact of the 4th Industrial revolution. \n*   Welcome by dr. Páll Ríkharðsson\, professor at RU\n*   Auditors and technology by Atli Þór Jóhannsson\, Partner\, PwC\n*   AI and Iceland by Dr. Kristinn R. Þórisson\, professor at RU and CEO of IIIM\n*   AI and auditing by Dr. Páll Ríkharðsson\, professor at RU
URL:https://fie.is/vidburdur/gervigreind-og-endurskodun-namskeid-i-streymi-hja-haskolanum-i-reykjavik/
END:VEVENT
END:VCALENDAR