BEGIN:VCALENDAR
VERSION:2.0
PRODID:-//Félag um innri endurskoðun - ECPv6.15.18//NONSGML v1.0//EN
CALSCALE:GREGORIAN
METHOD:PUBLISH
X-WR-CALNAME:Félag um innri endurskoðun
X-ORIGINAL-URL:https://fie.is
X-WR-CALDESC:Events for Félag um innri endurskoðun
REFRESH-INTERVAL;VALUE=DURATION:PT1H
X-Robots-Tag:noindex
X-PUBLISHED-TTL:PT1H
BEGIN:VTIMEZONE
TZID:UTC
BEGIN:STANDARD
TZOFFSETFROM:+0000
TZOFFSETTO:+0000
TZNAME:UTC
DTSTART:20200101T000000
END:STANDARD
END:VTIMEZONE
BEGIN:VEVENT
DTSTART;TZID=UTC:20210428T083000
DTEND;TZID=UTC:20210428T110000
DTSTAMP:20260421T123936
CREATED:20210215T162631Z
LAST-MODIFIED:20210215T162631Z
UID:3070-1619598600-1619607600@fie.is
SUMMARY:Innri endurskoðunardagurinn
DESCRIPTION:
URL:https://fie.is/vidburdur/innri-endurskodunardagurinn/
END:VEVENT
END:VCALENDAR