BEGIN:VCALENDAR
VERSION:2.0
PRODID:-//Félag um innri endurskoðun - ECPv6.15.18//NONSGML v1.0//EN
CALSCALE:GREGORIAN
METHOD:PUBLISH
X-WR-CALNAME:Félag um innri endurskoðun
X-ORIGINAL-URL:https://fie.is
X-WR-CALDESC:Events for Félag um innri endurskoðun
REFRESH-INTERVAL;VALUE=DURATION:PT1H
X-Robots-Tag:noindex
X-PUBLISHED-TTL:PT1H
BEGIN:VTIMEZONE
TZID:UTC
BEGIN:STANDARD
TZOFFSETFROM:+0000
TZOFFSETTO:+0000
TZNAME:UTC
DTSTART:20200101T000000
END:STANDARD
END:VTIMEZONE
BEGIN:VEVENT
DTSTART;TZID=UTC:20210520T080000
DTEND;TZID=UTC:20210520T120000
DTSTAMP:20260421T123934
CREATED:20200921T131203Z
LAST-MODIFIED:20200921T131203Z
UID:2834-1621497600-1621512000@fie.is
SUMMARY:Aðalfundur og fræðslufundur
DESCRIPTION:
URL:https://fie.is/vidburdur/adalfundur-og-fraedslufundur/
END:VEVENT
END:VCALENDAR