BEGIN:VCALENDAR
VERSION:2.0
PRODID:-//Félag um innri endurskoðun - ECPv6.15.18//NONSGML v1.0//EN
CALSCALE:GREGORIAN
METHOD:PUBLISH
X-ORIGINAL-URL:https://fie.is
X-WR-CALDESC:Events for Félag um innri endurskoðun
REFRESH-INTERVAL;VALUE=DURATION:PT1H
X-Robots-Tag:noindex
X-PUBLISHED-TTL:PT1H
BEGIN:VTIMEZONE
TZID:UTC
BEGIN:STANDARD
TZOFFSETFROM:+0000
TZOFFSETTO:+0000
TZNAME:UTC
DTSTART:20200101T000000
END:STANDARD
END:VTIMEZONE
BEGIN:VEVENT
DTSTART;TZID=UTC:20211124T080000
DTEND;TZID=UTC:20211124T111500
DTSTAMP:20260421T042806
CREATED:20210921T185158Z
LAST-MODIFIED:20210921T191737Z
UID:3252-1637740800-1637752500@fie.is
SUMMARY:Lean and agile audit in the COVID era
DESCRIPTION:James Paterson IIA Bretlandi verður með 2 námskeið í nóvember sem okkur býðst að taka þátt í og er þetta samvinnuverkefni með IIA Noregi. Það fyrra er Lean and agile audit in the COVID era en skráning fer í gegnum heimasíðu þeirra en upplýsingar er að finna í hlekknum hér fyrir neðan: \nLean and agile audit in the COVID era 23.11 (13.00-16.30) and 24.11 (09.00-12.15) CET \n23.11 (12.00-15.30) og 24.11 (8.00-11.15)
URL:https://fie.is/vidburdur/lean-and-agile-audit-in-the-covid-era-2/
END:VEVENT
BEGIN:VEVENT
DTSTART;TZID=UTC:20211124T120000
DTEND;TZID=UTC:20211124T153000
DTSTAMP:20260421T042806
CREATED:20210921T192009Z
LAST-MODIFIED:20210921T192201Z
UID:3271-1637755200-1637767800@fie.is
SUMMARY:Root Cause Analysis
DESCRIPTION:Seinna námskeiðið með James Paterson IIA Bretlandi fjallar um "Root Cause Analysis" og fer skráning fer í gegnum heimasíðu þeirra en upplýsingar er að finna í hlekknum hér fyrir neðan: \nRoot Cause Analysis 24.11 (13.00-16.30) and 25.11 (09.00-12.15) CET \n24.11 (12.00-15.30) og 25.11 (8.00-11.15)
URL:https://fie.is/vidburdur/3271/
END:VEVENT
END:VCALENDAR