BEGIN:VCALENDAR
VERSION:2.0
PRODID:-//Félag um innri endurskoðun - ECPv6.15.18//NONSGML v1.0//EN
CALSCALE:GREGORIAN
METHOD:PUBLISH
X-WR-CALNAME:Félag um innri endurskoðun
X-ORIGINAL-URL:https://fie.is
X-WR-CALDESC:Events for Félag um innri endurskoðun
REFRESH-INTERVAL;VALUE=DURATION:PT1H
X-Robots-Tag:noindex
X-PUBLISHED-TTL:PT1H
BEGIN:VTIMEZONE
TZID:UTC
BEGIN:STANDARD
TZOFFSETFROM:+0000
TZOFFSETTO:+0000
TZNAME:UTC
DTSTART:20200101T000000
END:STANDARD
END:VTIMEZONE
BEGIN:VEVENT
DTSTART;TZID=UTC:20211125T080000
DTEND;TZID=UTC:20211125T111500
DTSTAMP:20260421T042643
CREATED:20210921T192115Z
LAST-MODIFIED:20211001T082803Z
UID:3273-1637827200-1637838900@fie.is
SUMMARY:Root Cause Analysis - seinni hluti
DESCRIPTION:Seinna námskeiðið með James Paterson IIA Bretlandi fjallar um "Root Cause Analysis" og fer skráning fer í gegnum heimasíðu þeirra en upplýsingar er að finna í hlekknum hér fyrir neðan: \nRoot Cause Analysis 24.11 (13.00-16.30) and 25.11 (09.00-12.15) CET \n24.11 (12.00-15.30) og 25.11 (8.00-11.15)
URL:https://fie.is/vidburdur/root-cause-analysis/
END:VEVENT
BEGIN:VEVENT
DTSTART;TZID=UTC:20211125T130000
DTEND;TZID=UTC:20211125T163000
DTSTAMP:20260421T042643
CREATED:20211117T151152Z
LAST-MODIFIED:20211118T093950Z
UID:3309-1637845200-1637857800@fie.is
SUMMARY:THE BASICS THAT MATTER – MATCHING RISKS AND CONTROLS & WORK PROGRAMME DESIGN I
DESCRIPTION:Ef næg þátttaka næst þá ætlar fræðslunefndin að bjóða upp á námskeiðið The Basic that Matter - Risk & Controls með James Paterson dagana 25. og 26. nóvember frá kl. 13-16:30 báða dagana. \nNámskeiðið mun fjalla um hvernig við tengjum saman eftirlitsaðgerðir og áhættu út frá COSO líkaninu en einnig öðrum eins og „Bow Tie Analysis“. \nNámskeiðið mun gefa 7 CPE einingar\, en skráning þarf að berast í síðasta lagi sunnudaginn 21. nóvember. \nVerð fyrir námskeiðið er 30.000 kr. fyrir hvern þátttakanda og lágmarksfjöldi er 10 manns. Ef lágmarksfjöldi næst ekki verður námskeiðið fellt niður. \nSkráning fer fram með tölvupósti á netfangið fie@fie.is þar sem upplýst erum um narn og kt. þátttakanda sem og nafn og kt. greiðanda ef það er annar en þátttakandi. \nÍtarlegri upplýsingar um námskeiðið má finna með því að smella á hlekkinn hér fyrir neðan: \nThe Basics That Matter - Risks & Controls - IIA Iceland
URL:https://fie.is/vidburdur/the-basics-that-matter-matching-risks-and-controls-work-programme-design-i/
END:VEVENT
END:VCALENDAR