BEGIN:VCALENDAR
VERSION:2.0
PRODID:-//Félag um innri endurskoðun - ECPv6.15.18//NONSGML v1.0//EN
CALSCALE:GREGORIAN
METHOD:PUBLISH
X-ORIGINAL-URL:https://fie.is
X-WR-CALDESC:Events for Félag um innri endurskoðun
REFRESH-INTERVAL;VALUE=DURATION:PT1H
X-Robots-Tag:noindex
X-PUBLISHED-TTL:PT1H
BEGIN:VTIMEZONE
TZID:UTC
BEGIN:STANDARD
TZOFFSETFROM:+0000
TZOFFSETTO:+0000
TZNAME:UTC
DTSTART:20200101T000000
END:STANDARD
END:VTIMEZONE
BEGIN:VEVENT
DTSTART;TZID=UTC:20211126T130000
DTEND;TZID=UTC:20211126T163000
DTSTAMP:20260421T042937
CREATED:20211117T151313Z
LAST-MODIFIED:20211118T094009Z
UID:3311-1637931600-1637944200@fie.is
SUMMARY:THE BASICS THAT MATTER – MATCHING RISKS AND CONTROLS & WORK PROGRAMME DESIGN - Framhald
DESCRIPTION:Ef næg þátttaka næst þá ætlar fræðslunefndin að bjóða upp á námskeiðið The Basic that Matter - Risk & Controls með James Paterson dagana 25. og 26. nóvember frá kl. 13-16:30 báða dagana. \nNámskeiðið mun fjalla um hvernig við tengjum saman eftirlitsaðgerðir og áhættu út frá COSO líkaninu en einnig öðrum eins og „Bow Tie Analysis“. \nNámskeiðið mun gefa 7 CPE einingar\, en skráning þarf að berast í síðasta lagi sunnudaginn 21. nóvember. \nVerð fyrir námskeiðið er 30.000 kr. fyrir hvern þátttakanda og lágmarksfjöldi er 10 manns. Ef lágmarksfjöldi næst ekki verður námskeiðið fellt niður. \nSkráning fer fram með tölvupósti á netfangið fie@fie.is þar sem upplýst erum um narn og kt. þátttakanda sem og nafn og kt. greiðanda ef það er annar en þátttakandi. \nÍtarlegri upplýsingar um námskeiðið má finna með því að smella á hlekkinn hér fyrir neðan: \nThe Basics That Matter - Risks & Controls - IIA Iceland
URL:https://fie.is/vidburdur/the-basics-that-matter-matching-risks-and-controls-work-programme-design-framhald/
END:VEVENT
END:VCALENDAR