BEGIN:VCALENDAR
VERSION:2.0
PRODID:-//Félag um innri endurskoðun - ECPv6.15.18//NONSGML v1.0//EN
CALSCALE:GREGORIAN
METHOD:PUBLISH
X-ORIGINAL-URL:https://fie.is
X-WR-CALDESC:Events for Félag um innri endurskoðun
REFRESH-INTERVAL;VALUE=DURATION:PT1H
X-Robots-Tag:noindex
X-PUBLISHED-TTL:PT1H
BEGIN:VTIMEZONE
TZID:UTC
BEGIN:STANDARD
TZOFFSETFROM:+0000
TZOFFSETTO:+0000
TZNAME:UTC
DTSTART:20210101T000000
END:STANDARD
END:VTIMEZONE
BEGIN:VEVENT
DTSTART;TZID=UTC:20220524T160000
DTEND;TZID=UTC:20220524T190000
DTSTAMP:20260420T194036
CREATED:20220520T101615Z
LAST-MODIFIED:20220520T101615Z
UID:3455-1653408000-1653418800@fie.is
SUMMARY:Aðalfundur 24. maí 2022
DESCRIPTION:Kæri félagsmaður. \nFélag um innri endurskoðun boðar til aðalfundar þriðjudaginn 24. maí 2022 kl. 16-17. \nFundurinn fer fram að þessu sinni á veitingastaðnum Héðni\, Seljavegi 2\, 101 Reykjavík. \nDagskrá aðalfundar: \n1. Skýrsla um störf félagsins á liðnu ári. \n2. Reikningar félagsins lagðir fram til samþykktar. \n3. Breytingar á samþykktum. \n4. Kosning stjórnarmanna. \n5. Kosning skoðunarmanns annað hvert ár. \n6. Ákvörðun félagsgjalds. \n7. Önnur mál. \nBoðið verður upp á léttar veitingar í lok fundar. Hvetjum alla félagsmenn til að mæta og þeim sem hafa áhuga á að bjóða sig fram í stjórn. \nStjórn FIE
URL:https://fie.is/vidburdur/adalfundur-24-mai-2022/
LOCATION:Héðinn veitingastaður\, Seljavegur 2\, Reykjavík\, Iceland
CATEGORIES:Aðalfundur
END:VEVENT
END:VCALENDAR