BEGIN:VCALENDAR
VERSION:2.0
PRODID:-//Félag um innri endurskoðun - ECPv6.15.18//NONSGML v1.0//EN
CALSCALE:GREGORIAN
METHOD:PUBLISH
X-ORIGINAL-URL:https://fie.is
X-WR-CALDESC:Events for Félag um innri endurskoðun
REFRESH-INTERVAL;VALUE=DURATION:PT1H
X-Robots-Tag:noindex
X-PUBLISHED-TTL:PT1H
BEGIN:VTIMEZONE
TZID:UTC
BEGIN:STANDARD
TZOFFSETFROM:+0000
TZOFFSETTO:+0000
TZNAME:UTC
DTSTART:20210101T000000
END:STANDARD
END:VTIMEZONE
BEGIN:VEVENT
DTSTART;VALUE=DATE:20220921
DTEND;VALUE=DATE:20220923
DTSTAMP:20260420T192630
CREATED:20220816T173220Z
LAST-MODIFIED:20220829T212136Z
UID:3510-1663718400-1663891199@fie.is
SUMMARY:Risk and Internal Audit Conference
DESCRIPTION:Félag um innri endurskoðun hefur fengið James C Paterson til að vera með tveggja daga ráðstefnu þar sem umfjöllunarefnið verður tengt Áhættustjórnun og stjórnarháttum og straumlínulöguð endurskoðun. \nRáðstefnan fer fram á ensku og má hér sjá hvert skipulagið verður: \n21. September\nHluti I – Fyrir hádegi frá 9.00 – 12.30\nGood practices in Risk management and corporate governance\n(Allir velkomnir; stjórnendur\, stjórn\, endurskoðunarnefndir\, áhættustýring\, regluvarsla og innri endurskoðendur) - gefur 3\,5 endurmenntunareiningar.\nHluti II – Eftir hádegi frá 13.30 – 16.45\nRisk Assurance / Joining up the jigsaw between the business – assurance co-ordination\n(Áhættustýring\, regluvarsla og innri endurskoðendur) - gefur 3\,5 endurmenntunareiningar \n22 September\nHluti III – Fyrir og eftir hádegi frá 09:00-16:45 \nLean and agile auditing essentials – part I\nValue\, Making things “flow” (Megináhersla á störf innri endurskoðenda)\nLean and agile auditing essentials – part 2\nRoot cause analysis and reporting\nAreas to watch concerning Quality (QAR/EQA)\n(Megináhersla á störf innri endurskoðenda) \nAllur dagurinn gefur 7 endurmenntunareiningar. \nVerð:\nFyrir báða dagana 21. og 22. september\, með léttum morgunmat\, hádegismat og síðdegishressingu er verð fyrir félagsmenn 90.000. kr (fyrir aðila utan félagsins er verðið 110.000)\nHluti I - 21. september\, með léttum morgunmat kr. 29.000. (fyrir aðila utan félags er verðið 35.000)\nHluti II – 21. september\, með síðdegishressingu kr. 29.000. (fyrir aðila utan félags er verðið 35.000)\nHluti III – 22. September\, með morgunmat\, hádegismat og síðdegishressingu kr. 45.000. (fyrir aðila utan félags er verðið 55.000) \nSkráning fer fram í gegnum vefsíðu félagsins hér. \n 
URL:https://fie.is/vidburdur/risk-and-internal-audit-conference/
LOCATION:Akóges salurinn\, Lágmúli 4\, Reykjavík\, Iceland
CATEGORIES:Haustráðstefna
END:VEVENT
END:VCALENDAR