BEGIN:VCALENDAR
VERSION:2.0
PRODID:-//Félag um innri endurskoðun - ECPv6.15.18//NONSGML v1.0//EN
CALSCALE:GREGORIAN
METHOD:PUBLISH
X-ORIGINAL-URL:https://fie.is
X-WR-CALDESC:Events for Félag um innri endurskoðun
REFRESH-INTERVAL;VALUE=DURATION:PT1H
X-Robots-Tag:noindex
X-PUBLISHED-TTL:PT1H
BEGIN:VTIMEZONE
TZID:UTC
BEGIN:STANDARD
TZOFFSETFROM:+0000
TZOFFSETTO:+0000
TZNAME:UTC
DTSTART:20210101T000000
END:STANDARD
END:VTIMEZONE
BEGIN:VEVENT
DTSTART;TZID=UTC:20221124T081500
DTEND;TZID=UTC:20221124T100000
DTSTAMP:20260420T223749
CREATED:20221101T155102Z
LAST-MODIFIED:20221101T155102Z
UID:3566-1669277700-1669284000@fie.is
SUMMARY:Morgunverðarfundur 24. nóvember 2022
DESCRIPTION:Næsti morgunverðarfundur FIE verður haldinn fimmtudaginn 24. nóvember kl. 8:15-10:00 í nýju húsnæði Vegagerðarinnar að Suðurhrauni 3 í Garðabæ. \nÁ fundinum verða haldin tvö erindi. \nAnna Margrét Jóhannesdóttir\, nýr innri endurskoðandi Vegagerðarinnar\, kynnir starfsemi Innri endurskoðunar Vegagerðarinnar og helstu áskoranir. \nAuðbjörg Friðgeirsdóttir\, nýr áhættustjóri Isavia\, fer yfir hvernig það er að byggja upp og innleiða heilstæða áhættustýringu fyrir samstæðu ÍSAVIA. \nUmræður í lokin. \nBoðið verður upp á léttar kaffiveitingar. \nFundurinn er í boði Vegagerðarinnar og er aðgangur frír. Til að halda utan um mætingu þarf samt sem áður að skrá sig á fundinn. \nMæting á fundinn gefur 2 endurmenntunareiningar. \nSkráning fer fram hér.
URL:https://fie.is/vidburdur/morgunverdarfundur-24-november-2022/
LOCATION:Vegagerðin\, Suðurhraun 3\, Garðabær\, Iceland
END:VEVENT
END:VCALENDAR