BEGIN:VCALENDAR
VERSION:2.0
PRODID:-//Félag um innri endurskoðun - ECPv6.15.18//NONSGML v1.0//EN
CALSCALE:GREGORIAN
METHOD:PUBLISH
X-ORIGINAL-URL:https://fie.is
X-WR-CALDESC:Events for Félag um innri endurskoðun
REFRESH-INTERVAL;VALUE=DURATION:PT1H
X-Robots-Tag:noindex
X-PUBLISHED-TTL:PT1H
BEGIN:VTIMEZONE
TZID:Atlantic/Reykjavik
BEGIN:STANDARD
TZOFFSETFROM:+0000
TZOFFSETTO:+0000
TZNAME:GMT
DTSTART:20250101T000000
END:STANDARD
END:VTIMEZONE
BEGIN:VEVENT
DTSTART;TZID=Atlantic/Reykjavik:20260107T080000
DTEND;TZID=Atlantic/Reykjavik:20260107T170000
DTSTAMP:20260421T094435
CREATED:20260107T115540Z
LAST-MODIFIED:20260107T115540Z
UID:4908-1767772800-1767805200@fie.is
SUMMARY:Frítt vefnámskeið: Að styðja stjórnir við að auka væntingar til hlutverk áhættustýringar
DESCRIPTION:Lýsing á námskeiði \nStjórnun áhættu fyrirtækja (enterprise risk management – ERM) hefur þróast verulega á síðustu tveimur áratugum\, úr viðbragðsmiðuðu „hakið í box“-ferli yfir í framsækið ramma­verk fyrir ákvarðanatöku sem styður stofnanir við að takast á við óvissu og nýta tækifæri. Þrátt fyrir að stjórnir beri lagalega skyldu til að tryggja að áhættu sé stýrt á fullnægjandi hátt\, eiga þær oft í erfiðleikum með að spyrja réttu spurninganna eða meta skilvirkni áhættustýringar. \nTil að brúa þetta bil þróaði áhættustýringarnet IIA í Noregi hagnýtar leiðbeiningar sem ætlað er að styrkja stjórnir í að setja kröfur\, veita aðhald og bæta áhættustýringu. Leiðbeiningarnar eru hnitmiðaðar\, lausar við óþarfa tæknimáls (jargon) og studdar af útskýringum\, sem gerir þær að aðgengilegu og öflugu tæki í stjórnarháttum. Þær byggja á alþjóðlegum meginreglum\, þar á meðal trúnaðarskyldum stjórnar (fiduciary duties) um varkárni (duty of care)\, hollustu (duty of loyalty) og eftirlitsskyldu (duty to monitor). \nÁ þessu vefnámskeiði munu þrír sérfræðingar sem komu að gerð leiðbeininganna kynna lykilatriði þeirra og deila hagnýtum ábendingum um hvernig stjórnir\, sem og starfseiningar annarrar og þriðju varnarlínu\, geta nýtt þessar spurningar til að efla og þróa verklag í áhættustýringu. \n\n\n\n\n\n\n\n\nMarkmið námskeiðsins \n\n\nAð skilja helstu þætti framsækins ERM-hlutverks \n\n\nAð átta sig á ábyrgð stjórnar við yfirstjórn og eftirlit með áhættu \n\n\nÞátttakendur fá jafnframt aðgang að leiðbeiningunum í heild sinni og geta þannig nýtt þær til að veita aðhald og bæta núverandi fyrirkomulag áhættustýringar innan sinna stofnana. \nFyrirlesarar \n\n\nMartin Stevens\, Gjensidige Forsikring ASA \n\n\nPetter Kapstad\, Senior Specialist Risk Management \n\n\nEsben Jensrud\, stofnandi og yfirmaður áhættustýringar (Founder and Chief Risk Officer) \n\n\nHvenær?Þriðjudagur 20. janúar 2026\, kl. 15:00\, lengd: 1 klst. \n\n\n\n\nCPE credit(s): 1\n\n\nSkráning hér
URL:https://fie.is/vidburdur/fritt-vefnamskeid-ad-stydja-stjornir-vid-ad-auka-vaentingar-til-hlutverk-ahaettustyringar/
END:VEVENT
END:VCALENDAR