BEGIN:VCALENDAR
VERSION:2.0
PRODID:-//Félag um innri endurskoðun - ECPv6.15.18//NONSGML v1.0//EN
CALSCALE:GREGORIAN
METHOD:PUBLISH
X-WR-CALNAME:Félag um innri endurskoðun
X-ORIGINAL-URL:https://fie.is
X-WR-CALDESC:Events for Félag um innri endurskoðun
REFRESH-INTERVAL;VALUE=DURATION:PT1H
X-Robots-Tag:noindex
X-PUBLISHED-TTL:PT1H
BEGIN:VTIMEZONE
TZID:UTC
BEGIN:STANDARD
TZOFFSETFROM:+0000
TZOFFSETTO:+0000
TZNAME:UTC
DTSTART:20160101T000000
END:STANDARD
END:VTIMEZONE
BEGIN:VEVENT
DTSTART;TZID=UTC:20230531T163000
DTEND;TZID=UTC:20230531T173000
DTSTAMP:20260420T151919
CREATED:20230515T215218Z
LAST-MODIFIED:20230515T215218Z
UID:3672-1685550600-1685554200@fie.is
SUMMARY:Aðalfundur FIE 2023
DESCRIPTION:Boðað er til aðalfundar miðvikudaginn 31. maí 2023 kl. 16:30-17:30.\nFundurinn fer fram að þessu sinni að Hótel Kríunesi\, Vatnsenda í Kópavogi\nDagskrá aðalfundar:\n1. Skýrsla um störf félagsins á liðnu ári.\n2. Reikningar félagsins lagðir fram til samþykktar.\n3. Breytingar á samþykktum. (Lögð fram tillaga um að einfalda stjórnarkjör í félaginu sjá hér. )\n4. Kosning stjórnarmanna.\n5. Kosning skoðunarmanns.\n6. Ákvörðun félagsgjalds (engar breytingar áætlaðar).\n7. Önnur mál.\nStjórnin hvetur félagsmenn til að taka þátt í starfi félagsins. Áhugasamir geta haft samband við stjórn félagsins en einnig er hægt að bjóða sig fram til stjórnarsetu á fundinum.\nBoðið verður uppá léttar veitingar á fundinum.\nMeð von um að sjá þig á aðalfundinum! \nStjórn FIE
URL:https://fie.is/vidburdur/adalfundur-fie-2023/
LOCATION:Hótel Kríunes\, Kriunes\, Kópavogur\, Iceland
CATEGORIES:Aðalfundur
END:VEVENT
BEGIN:VEVENT
DTSTART;TZID=UTC:20220524T160000
DTEND;TZID=UTC:20220524T190000
DTSTAMP:20260420T151919
CREATED:20220520T101615Z
LAST-MODIFIED:20220520T101615Z
UID:3455-1653408000-1653418800@fie.is
SUMMARY:Aðalfundur 24. maí 2022
DESCRIPTION:Kæri félagsmaður. \nFélag um innri endurskoðun boðar til aðalfundar þriðjudaginn 24. maí 2022 kl. 16-17. \nFundurinn fer fram að þessu sinni á veitingastaðnum Héðni\, Seljavegi 2\, 101 Reykjavík. \nDagskrá aðalfundar: \n1. Skýrsla um störf félagsins á liðnu ári. \n2. Reikningar félagsins lagðir fram til samþykktar. \n3. Breytingar á samþykktum. \n4. Kosning stjórnarmanna. \n5. Kosning skoðunarmanns annað hvert ár. \n6. Ákvörðun félagsgjalds. \n7. Önnur mál. \nBoðið verður upp á léttar veitingar í lok fundar. Hvetjum alla félagsmenn til að mæta og þeim sem hafa áhuga á að bjóða sig fram í stjórn. \nStjórn FIE
URL:https://fie.is/vidburdur/adalfundur-24-mai-2022/
LOCATION:Héðinn veitingastaður\, Seljavegur 2\, Reykjavík\, Iceland
CATEGORIES:Aðalfundur
END:VEVENT
BEGIN:VEVENT
DTSTART;TZID=UTC:20200527T140000
DTEND;TZID=UTC:20200527T150000
DTSTAMP:20260420T151919
CREATED:20200217T084315Z
LAST-MODIFIED:20200512T201958Z
UID:2699-1590588000-1590591600@fie.is
SUMMARY:Aðalfundur
DESCRIPTION:Kæri félagsmaður. \nFélag um innri endurskoðun boðar til aðalfundar miðvikudaginn 27. maí 2020 kl. 14-15. \nFundurinn verður að þessu sinni haldinn í fjarfundabúnaði en honum er stýrt úr húsnæði Kviku banka\, Katrínartúni 2\, 105 Reykjavík.  Hlekkurinn inn á fjarfundinn verður sendur á skráð netföng félagsmanna í félagaskrá. \nDagskrá aðalfundar: \n1.      Skýrsla um störf félagsins á liðnu ári. \n2.      Reikningar félagsins lagðir fram til samþykktar. \n3.      Breytingar á samþykktum. \n4.      Kosning stjórnarmanna. \n5.      Kosning formanna nefnda skv. 7 gr. \n6.      Kosning skoðunarmanns annað hvert ár. \n7.      Ákvörðun félagsgjalds. \n8.      Önnur mál. \nStjórnin minnir á að allir geta boðið sig fram til stjórnarsetu og hvetur félagsmenn til að gefa kost á sér til starfa í nefndum og faghópum á vegum félagsins. Áhugasamir félagsmenn geta haft samband við stjórn félagsins. \nStjórn FIE
URL:https://fie.is/vidburdur/adalfundur/
CATEGORIES:Aðalfundur
ORGANIZER;CN="Stj%C3%B3rn F%C3%A9lags um innri endursko%C3%B0un":MAILTO:fie@fie.is
END:VEVENT
BEGIN:VEVENT
DTSTART;TZID=UTC:20170524T100000
DTEND;TZID=UTC:20170524T110000
DTSTAMP:20260420T151919
CREATED:20170502T142158Z
LAST-MODIFIED:20170503T141329Z
UID:1532-1495620000-1495623600@fie.is
SUMMARY:Aðalfundur FIE 24. maí
DESCRIPTION:Félag um innri endurskoðun boðar til aðalfundar miðvikudaginn 24. maí 2017\, kl. 10-11. \nFundurinn verður haldinn í Víkingasal Hótel Natura. \nFyrir fundinn mun fræðslunefnd FIE halda síðasta morgunverðarfund vetrarins. Nánari upplýsingar um hann má finna inn á heimasíðu félagsins\, https://fie.is/vidburdur/mansal-og-peningathvaetti/ \nStjórnin minnir á að allir geta boðið sig fram til stjórnarsetu og hvetur félagsmenn eindregið til að íhuga það. Ennfremur hvetur stjórnin félagsmenn til að gefa kost á sér til starfa í nefndum og faghópum á vegum félagsins. Áhugasamir félagsmenn geta haft samband við stjórn félagsins en einnig er hægt að bjóða sig fram á fundinum. \nMeðfylgjandi eru nánari upplýsingar um aðalfundinn úr samþykktum félagsins: \nSamþykktir félagsins kveða á um að aðalfundur skuli haldinn í maí og boðaður með minnst 14 daga fyrirvara: \nAðalfundur \nAðalfundur hefur æðsta vald í málefnum félagsins. Aðalfund skal boða skriflega með bréfi eða tölvupósti með 14 daga fyrirvara hið skemmsta. Aðalfundur er lögmætur sé löglega til hans boðað og ræður afl atkvæða úrslitum mála nema annars sé getið í samþykktum félagsins. \nÞessi mál skulu tekin fyrir á aðalfundi: \n\nSkýrsla um störf félagsins á liðnu ári.\nReikningar félagsins lagðir fram til samþykktar.\nBreytingar á samþykktum.\nKosning stjórnarmanna.\nKosning formanna nefnda skv. 7. gr.\nKosning skoðunarmanns annað hvert ár.\nÁkvörðun félagsgjalds.\nÖnnur mál.\n\nAukaaðalfund skal kalla saman ef 10% félagsmanna óska skriflega eftir því við stjórn félagsins með dagskrá og skal stjórn boða fundinn með 14 daga fyrirvara hið skemmsta og eigi síðar en 30 dögum eftir að slík beiðni hefur borist stjórn. \nStarfshættir \nStjórn félagsins skal kosin á aðalfundi sem haldinn skal í maí ár hvert. Kosningar skulu vera skriflegar sé þess óskað. Stjórn félagsins skal skipuð 5 félagsmönnum og skulu þeir skipta með sér verkum. Til að stjórnarfundur sé ákvarðanabær skal meirihluti stjórnarmanna sitja fundinn. Þátttaka í stjórnarfundi í gegnum fjarfundabúnað er heimil. Starf stjórnar skal vera ólaunað en félagið ber kostnað af störfum þeirra. Láti stjórnarmaður af störfum á kjörtímabilinu skal boða til félagsfundar skv. 4. gr. og kjósa mann í stjórn til þess að starfa út kjörtímabil þess sem lét af störfum . \nAllir félagsmenn hafa rétt til að kjósa á aðalfundi. Á stofnfundi skal kjósa 3 stjórnamenn til tveggja ára og 2 til eins árs. Eftir það skal kjósa ýmist 2 eða 3 til tveggja ára setu í stjórn félagsins hverju sinni. Stjórnarmaður skal þó aldrei sitja lengur en þrjú kjörtímabil samfleytt. Skoðunarmann skal kjósa til tveggja ára í senn. \nFélagið starfar sjálfstætt og skipuleggur stjórnin starfsemi þess. Reikningsár félagsins er almanaksárið. \nMeð von um að sjá þig á aðalfundinum\, \nStjórn FIE
URL:https://fie.is/vidburdur/fraedslufunduradalfundur-fie-24-mai/
LOCATION:Hótel Natura\, Nautholsvegur 52\, Reykjavík\, 101\, Iceland
CATEGORIES:Aðalfundur
ATTACH;FMTTYPE=image/jpeg:https://fie.is/wp-content/uploads/2017/01/Capture-2.jpg
ORGANIZER;CN="Stj%C3%B3rn F%C3%A9lags um innri endursko%C3%B0un":MAILTO:fie@fie.is
END:VEVENT
END:VCALENDAR