BEGIN:VCALENDAR
VERSION:2.0
PRODID:-//Félag um innri endurskoðun - ECPv6.15.18//NONSGML v1.0//EN
CALSCALE:GREGORIAN
METHOD:PUBLISH
X-ORIGINAL-URL:https://fie.is
X-WR-CALDESC:Events for Félag um innri endurskoðun
REFRESH-INTERVAL;VALUE=DURATION:PT1H
X-Robots-Tag:noindex
X-PUBLISHED-TTL:PT1H
BEGIN:VTIMEZONE
TZID:UTC
BEGIN:STANDARD
TZOFFSETFROM:+0000
TZOFFSETTO:+0000
TZNAME:UTC
DTSTART:20150101T000000
END:STANDARD
END:VTIMEZONE
BEGIN:VEVENT
DTSTART;TZID=UTC:20230926T080000
DTEND;TZID=UTC:20230926T103000
DTSTAMP:20260425T115546
CREATED:20230918T161454Z
LAST-MODIFIED:20230918T161454Z
UID:3744-1695715200-1695724200@fie.is
SUMMARY:Morgunverðarfundur FIE 26. september 2023
DESCRIPTION:Næsti morgunverðarfundur FIE verður haldinn þriðjudaginn 26. september kl. 8:15 - 10:00 í húsnæði Kviku banka hf.\, Katrínartúni 2\, 105 Reykjavík. \nÁ fundinum verða haldin tvö erindi. \nGréta Gunnarsdóttir\, sérfræðingur í innri endurskoðun hjá Kviku\, fjallar um netöryggismál og hvaða spurningum innri endurskoðendur þurfa að fá svarað við úttekt á málefninu. \nBjörg Ýr Jóhannsdóttir\, sérfræðingur í innri endurskoðun hjá Íslandsbanka\, fer yfir hvað er framundan í reglugerðarlandslaginu\, bæði varðandi gervigreind og DORA. \nUmræður í lokin. \nBoðið verður upp á léttar kaffiveitingar. \nÞátttökugjald er kr. 1.500 fyrir félagsmenn FIE og FLE en kr. 2.000 fyrir aðra.  \nMæting á fundinn gefur 2 endurmenntunareiningar. \nSkráning fer fram hér.
URL:https://fie.is/vidburdur/morgunverdarfundur-fie-26-september-2023/
LOCATION:Kvika banki hf.\, Katrínartún 2\, Reykjavík\, 105\, Iceland
CATEGORIES:Morgunverðarfundur
END:VEVENT
BEGIN:VEVENT
DTSTART;TZID=UTC:20220428T081500
DTEND;TZID=UTC:20220428T100000
DTSTAMP:20260425T115546
CREATED:20220303T141305Z
LAST-MODIFIED:20220425T154933Z
UID:3375-1651133700-1651140000@fie.is
SUMMARY:Morgunverðarfundur - Kvik vinnubrögð
DESCRIPTION:FIE og Landsbankinn bjóða til morgunverðarfundar í húsakynnum Landsbankans við Austurstræti 11 fimmtudaginn 28. apríl nk. og hefst fundurinn kl: 08:15-10:00. Gengið er inn í húsið á móti ÁTVR. \nStarfmenn Innri endurskoðunar Landsbankans munu fjalla um kvik vinnubrögð í innri endurskoðun og reynslu þeirra af því að innleiða slíka aðferðafræði í verklag deildarinnar. \nBjörn Snær Atlason er með MSc gráðu í fjárfestingarstjórnun og hefur lokið CIA og CRMA vottunum ásamt því að hafa lokið verðbréfaréttindaprófum. Björn hefur starfað hjá Innri endurskoðun Landsbankans sl. 8 ár og vann þar áður hjá PwC í 5 ár. \nKristín Baldursdóttir er hagfræðingur að mennt\, með meistarapróf í verkefnastjórnun og þýsku og hefur starfsréttindi sem kennari og leiðsögumaður. Kristín hefur lokið CIA vottun og verðbréfaréttindaprófum. Kristín hefur starfað í bankakerfinu sem sérfræðingur og stjórnandi á fjórða áratug þar af 13 ár í innri endurskoðun Landsbankans. Kristín hefur jafnframt fengist við kennslu og leiðsögn frá unga aldri og kennt stjórnun og leiðtogafærni við Endurmenntun Háskóla Íslands síðustu 15 ár. \nRósa Björg Ólafsdóttir er tölvunarfræðingur með yfir 25 ára reynslu í hugbúnaðargerð og hefur lokið CISA vottun. Rósa leiddi vinnu við innleiðingu kvikra aðferða fyrir hugbúnaðargerð Marel heima og erlendis á árunum 2009 til 2015. Rósa hefur starfað í bankakerfinu í yfir 15 ár og þar af í innri endurskoðun Landsbankans í rúm 3 ár. \nFundurinn er í boði Landsbankans og er ókeypis. Til að halda utan um mætingu þarf samt sem áður að skrá sig á fundinn sem hægt er að gera hér. \nMæting á fundinn veitir 2 endurmenntunareiningar.
URL:https://fie.is/vidburdur/morgunverdarfundur-kvik-vinnubrogd/
LOCATION:Landsbanki Íslands\, Austurstræti 11\, Reykjavík\, Reykjavík\, 101\, Iceland
CATEGORIES:Morgunverðarfundur
END:VEVENT
BEGIN:VEVENT
DTSTART;TZID=UTC:20220310T080000
DTEND;TZID=UTC:20220310T100000
DTSTAMP:20260425T115546
CREATED:20220303T140455Z
LAST-MODIFIED:20220304T004429Z
UID:3370-1646899200-1646906400@fie.is
SUMMARY:Kaloríur í Bitcoin
DESCRIPTION:Félag um innri endurskoðun mun standa fyrir morgunverðarfundi fimmtudaginn 10. mars 2022 klukkan 8:00 - 10:00 á hótel Natura \nEfni fundarins er: Kaloríur í Bitcoin og Ný ásýnd IIA. \n\nGísli Jökull Gíslason mun flytja erindið Kaloríur í Bitcoin en hann starfar hjá Lögreglustjóranum á Höfuðborgarsvæðinu. Gísli hefur yfir 20 ára reynslu úr ýmsum deildum/embættum lögreglu\, en undanfarin ár hefur hann\, fyrir utan bókaskrif og kennslu\, haft að starfi að vera rannsóknarlögreglumaður í fjármunabrotadeild miðlægrar deildar LRH (stutta heitið er R2-E). Eitt verkefna hans þar eru rannsóknir á netsvikum en einnig önnur fjármunabrot en fyrirlesturinn beinir sjónum sínum aðallega að netglæpum/netsvikum. \nSeinna erindið verður kynnt af stjórn FIE og verður farið yfir nýja ásýnd IIA og nýja vörumerki alþjóðafélagsins. \nVerð fyrir félagsmenn er 5.900 kr. fyrir utan félagsmenn er verðið 6.900 kr. \nFundurinn gefur 2 endurmenntunareiningar í endurskoðunarflokki. \nSkráning er með tölvupósti á fie@fie.is fyrir kl 12.00 þann 8. mars eða hér.
URL:https://fie.is/vidburdur/kaloriur-i-bitcoin/
LOCATION:Hótel Natura\, Nautholsvegur 52\, Reykjavík\, 101\, Iceland
CATEGORIES:Morgunverðarfundur
END:VEVENT
BEGIN:VEVENT
DTSTART;TZID=UTC:20190117T080000
DTEND;TZID=UTC:20190117T100000
DTSTAMP:20260425T115546
CREATED:20181203T104734Z
LAST-MODIFIED:20181203T112247Z
UID:2175-1547712000-1547719200@fie.is
SUMMARY:Morgunverðarfundur
DESCRIPTION:
URL:https://fie.is/vidburdur/morgunverdarfundur-17-januar-2019/
CATEGORIES:Morgunverðarfundur
END:VEVENT
BEGIN:VEVENT
DTSTART;TZID=UTC:20180214T080000
DTEND;TZID=UTC:20180214T100000
DTSTAMP:20260425T115546
CREATED:20180130T092357Z
LAST-MODIFIED:20180208T161311Z
UID:1744-1518595200-1518602400@fie.is
SUMMARY:Rafmyntir og samtímaendurskoðun
DESCRIPTION:Næsti morgunverðarfundur er á Valentínusardaginn og umræðuefnið ekki af verri endanum. Við fáum Gísla Kr. framkvæmdastjóra sölu- og markaðssviðs Advania Data Center til að fara yfir Bitcoin\, blockhain og þá spurningu hvort að það séu raunveruleg verðmæti í rafmynt.\nGuðmundur I. Bergþórsson\, CIA\, QIAL mun svo einnig fara yfir hvernig hann hefur nýtt sér tæknina og samtímaendurskoðun í sínum störfum. \nHvar: Grand hótel - Fundarsalurinn Hvammur \nHvenær: miðvikudaginn 14. febrúar kl: 08:00-10:00 \nMæting gefur 2 endurmenntunareiningar. \nVerð: 4.500.- kr fyrir félagsmenn og 5.500.- fyrir utanfélagsmenn.\nInnifalið er morgunverður og kaffi. \nSkráning er með tölvupósti á fie@fie.is. Hægt er að afskrá til hádegis þriðjudagsins 13. febrúar en eftir það er skráning bindandi.
URL:https://fie.is/vidburdur/rafmyntir-og-samtimaendurskodun/
LOCATION:Grand Hótel Reykjavík\, Sigtúni 38\, Reykjavík\, 105\, Iceland
CATEGORIES:Morgunverðarfundur
END:VEVENT
BEGIN:VEVENT
DTSTART;TZID=UTC:20170920T080000
DTEND;TZID=UTC:20170920T100000
DTSTAMP:20260425T115546
CREATED:20170914T154559Z
LAST-MODIFIED:20170919T093021Z
UID:1649-1505894400-1505901600@fie.is
SUMMARY:Áhættustýring\, orðsporsáhætta og krísustjórnun
DESCRIPTION:Miðvikudaginn 20. september nk. mæta til okkar tveir frábærir sérfræðingar. Auðbjörg Friðgeirsdóttir CIA kemur frá PwC og Grétar Theodórsson almannatengill frá Innsýn. \nAuðbjörg er sérfræðingur í áhættustýringu og mun ræða um hvar hlutverki innri endurskoðunar sleppir og hlutverk áhættustýringar tekur við. \nGrétar\, sem er með MA í almanntengslum og markaðssamskiptum\, fer yfir orðsporsáhættu og krísustjórnun. \nÍ lokin munum við hafa 20 mínútna umræður varðandi þessi málefni. Hlökkum til að sjá ykkur. \nHvar: Fosshótel Reykjavík\, Gullfoss A\, 2. hæð. \nHvenær: miðvikudaginn 20. september kl: 08:00-10:00 \nMæting gefur 2 endurmenntunareiningar. \nVerð: 4.500.- kr fyrir félagsmenn\, 5.500.- fyrir utanfélagsmenn. Innifalið er morgunverður og kaffi. \nSkráning er með tölvupósti á fie@fie.is. Takið eftir að stuttur tími er til stefnu svo endilega skráið ykkur sem fyrst. Hægt er að afskrá til hádegis þriðjudagsins 19. september en eftir það er skráning bindandi.
URL:https://fie.is/vidburdur/ahaettustyring-ordsporsahaetta-og-krisustjornun/
LOCATION:Fosshótel Reykjavík
CATEGORIES:Morgunverðarfundur
ATTACH;FMTTYPE=image/jpeg:https://fie.is/wp-content/uploads/2016/05/risk-Mus.jpg
END:VEVENT
BEGIN:VEVENT
DTSTART;TZID=UTC:20170524T080000
DTEND;TZID=UTC:20170524T100000
DTSTAMP:20260425T115546
CREATED:20170418T093511Z
LAST-MODIFIED:20170505T114648Z
UID:1491-1495612800-1495620000@fie.is
SUMMARY:Mansal og peningaþvætti
DESCRIPTION:Fræðslunefndin hefur fengið Snorra Birgisson frá LRH sem er sérfræðingur í mansalsmálum til að fara yfir rannsóknir á mansali. ásamt endurheimtingu fjármuna af brotastarfsemi.\nÞá mun Guðrún Árnadóttir\, sem stýrir peningaþvættisskrifstofu Héraðssaksóknara fara yfir það allra nýjasta í tengslum við peningaþvætti.\nÞetta eru málefni sem eiga vel við okkur sem innri endurskoðendur og annarra sem þurfa að vita lágmarks skil á svona brotastarfsemi sem teygir sig í marga anga samfélagsins.\nSkráning fer fram á fie@fie.is. Ókeypis fyrir félaga FIE en 3.500.- kr. fyrir aðra.\nÞátttaka á fundinum veitir 2 endurmenntunareiningar.
URL:https://fie.is/vidburdur/mansal-og-peningathvaetti/
LOCATION:Hótel Natura\, Nautholsvegur 52\, Reykjavík\, 101\, Iceland
CATEGORIES:Morgunverðarfundur
ATTACH;FMTTYPE=image/jpeg:https://fie.is/wp-content/uploads/2017/04/money-laundering-scaled.jpg
ORGANIZER;CN="Gu%C3%B0mundur I Berg%C3%BE%C3%B3rsson":MAILTO:Gudmundur.I.Bergthorsson@or.is
END:VEVENT
BEGIN:VEVENT
DTSTART;TZID=UTC:20170405T080000
DTEND;TZID=UTC:20170405T100000
DTSTAMP:20260425T115546
CREATED:20170221T101220Z
LAST-MODIFIED:20170320T133835Z
UID:1226-1491379200-1491386400@fie.is
SUMMARY:Morgunverðarfundur 5. apríl 2017 Grand Hótel
DESCRIPTION:Búið er að setja saman frábæran morgunverðarfund þann 5. apríl 2017. \nEr kostnaður allur sem hann er séður?\nEinar Guðbjartsson flytur fyrirlesturinn "Er kostnaður\, allur sem hann er séður?". Einar er dósent\, Hl. og er formaður faghóps um Kostnaðarstjórnun og - greiningu hjá Stjórnvísi. \n\nEr pínulítill Indriði í okkur öllum?\n \nÁgúst Hrafnkelsson formaður FIE fer m.a. yfir helstu breytingar á stöðlum IIA \nMorgunverður og kaffi í boði. Fundurinn verður á Grand Hótel\, Gullteigi B. \n  \nVerð 3.500.- kr og fást 2 endurmenntunareiningar fyrir fundinn. Morgunverðarfundir eru seldir á kostnaðarverði. \nSkráning með tölvupósti á fie@fie.is til kl 10:00 þriðjudaginn 4. apríl. Vinsamlegast tilkynnið forföll fyrir þann tíma að öðrum kosti er skráning bindandi. \nFræðslunefndin. \n 
URL:https://fie.is/vidburdur/morgunverdarfundur-5-april-2017-grand-hotel/
LOCATION:Grand Hótel Reykjavík\, Sigtúni 38\, Reykjavík\, 105\, Iceland
CATEGORIES:Morgunverðarfundur
ATTACH;FMTTYPE=image/jpeg:https://fie.is/wp-content/uploads/2017/01/Capture-2.jpg
ORGANIZER;CN="Gu%C3%B0mundur I Berg%C3%BE%C3%B3rsson":MAILTO:Gudmundur.I.Bergthorsson@or.is
END:VEVENT
BEGIN:VEVENT
DTSTART;TZID=UTC:20170306T082000
DTEND;TZID=UTC:20170306T101000
DTSTAMP:20260425T115546
CREATED:20170226T204341Z
LAST-MODIFIED:20170226T204341Z
UID:1243-1488788400-1488795000@fie.is
SUMMARY:Morgunverðarfundur 6. mars Ármúla 11
DESCRIPTION:Samskiptahæfni\, verum ósammála á jákvæðan hátt. \nDale Carnegie er með góðan fyrirlestur um samskiptahæfni. Við vitum öll hve mikilvæg samskipti eru í okkar vinnu og teljum við að þessi vinnustofa geti komið að góðum notum í okkar störfum. \nFyrirlesari er Sverrir Sigursveinsson B.Sc. Fjármál og Reikningshald. Starfað við fjármál og reikningshald ma. Hjá Landsvirkjun\, Íslandsbanka\, Slitastjórn Glitnis o.fl. \nVerð: 3.000 kr.\nStaður: Ármúli 11. \nSkráning í tölvupósti á fie@fie.is til föstudagsins 3. mars nk.\nÞáttaka gefur 2 endurmenntunareiningar.
URL:https://fie.is/vidburdur/morgunverdarfundur-6-mars-armula-11/
CATEGORIES:Morgunverðarfundur
ORGANIZER;CN="Gu%C3%B0mundur I Berg%C3%BE%C3%B3rsson":MAILTO:Gudmundur.I.Bergthorsson@or.is
END:VEVENT
BEGIN:VEVENT
DTSTART;TZID=UTC:20161123T080000
DTEND;TZID=UTC:20161123T100000
DTSTAMP:20260425T115546
CREATED:20161104T131827Z
LAST-MODIFIED:20161108T122919Z
UID:1107-1479888000-1479895200@fie.is
SUMMARY:Morgunverðarfundur 23. nóvember 2016 - Center Hótel Plaza
DESCRIPTION:Næsti morgunverðarfundur verður ótrúlega spennandi þar sem tveir frábærir fyrirlesarar\, Hinrik Pálsson (afbrota- og viðskiptafræðingur) og Rakel Ásgeirsdóttir (hdl.) munu mæta til okkar og halda erindi um sviksemi.\nAthugið að fundurinn er á Hótel Center Plaza í miðbæ Reykjavíkur.  Bílastæðahús er í Mjóstræti og Ráðhúsi Reykjavíkur ásamt fleiri bílastæðum um miðbæinn.\nLéttur morgunverður ásamt kaffi í boði.\nSkráning með tölvupósti á fie@fie.is.\nVerð 3.000.- og fást 2 endurmenntunareiningar fyrir fundinn.
URL:https://fie.is/vidburdur/morgunverdarfundur-23-november-2016-center-hotel-plaza/
LOCATION:Center Hótel Plaza\, Aðalstræti 4\, Reykjaík\, 101\, Iceland
CATEGORIES:Morgunverðarfundur
ATTACH;FMTTYPE=image/jpeg:https://fie.is/wp-content/uploads/2016/11/law-office-lawyers-in-your-city.jpg
ORGANIZER;CN="Gu%C3%B0mundur I Berg%C3%BE%C3%B3rsson":MAILTO:Gudmundur.I.Bergthorsson@or.is
END:VEVENT
END:VCALENDAR