BEGIN:VCALENDAR
VERSION:2.0
PRODID:-//Félag um innri endurskoðun - ECPv6.15.18//NONSGML v1.0//EN
CALSCALE:GREGORIAN
METHOD:PUBLISH
X-WR-CALNAME:Félag um innri endurskoðun
X-ORIGINAL-URL:https://fie.is
X-WR-CALDESC:Events for Félag um innri endurskoðun
REFRESH-INTERVAL;VALUE=DURATION:PT1H
X-Robots-Tag:noindex
X-PUBLISHED-TTL:PT1H
BEGIN:VTIMEZONE
TZID:UTC
BEGIN:STANDARD
TZOFFSETFROM:+0000
TZOFFSETTO:+0000
TZNAME:UTC
DTSTART:20150101T000000
END:STANDARD
END:VTIMEZONE
BEGIN:VEVENT
DTSTART;TZID=UTC:20170504T083000
DTEND;TZID=UTC:20170504T100000
DTSTAMP:20260422T003208
CREATED:20170420T160838Z
LAST-MODIFIED:20170420T161034Z
UID:1498-1493886600-1493892000@fie.is
SUMMARY:Gerð áhættumiðaðar endurskoðunaráætlunnar
DESCRIPTION:Fundur verður haldinn í faghópi um innri endurskoðun fjármálafyrirtækja 4. maí næstkomandi kl 8:30 í höfuðstöðvum Landsbankans að Austurstræti 11*. Áætlað er að fundinum ljúki um kl 10. \nFjallað verður um gerð áhættumiðaðrar endurskoðunaráætlunar og munu þau Kristín Baldursdóttir\, innri endurskoðandi Landsbankans\, Ágúst Hrafnkelsson\, innri endurskoðandi Íslandsbanka og Lilja Steinþórsdóttir\, innri endurskoðandi Arion banka hvert um sig miðla af reynslu sinni við gerð endurskoðunaráætlunar. \nBoðið verður uppá morgunhressingu. \nVinsamlegast tilkynnið þátttöku á fie@fie.is fyrir 1. maí nk. \nVonumst til að sjá sem flesta. \nBestu kveðjur\, \nUmsjónarmaður faghóps um innri endurskoðun fjármálafyrirtækja \n*Gengið er inn um inngang í Austurstræti við hlið Laundromat\, beint á móti ÁTVR.
URL:https://fie.is/vidburdur/gerd-ahaettumidadar-endurskodunaraaetlunnar/
LOCATION:Landsbanki Íslands\, Austurstræti 11\, Reykjavík\, Reykjavík\, 101\, Iceland
CATEGORIES:Faghópsfundir
ATTACH;FMTTYPE=image/jpeg:https://fie.is/wp-content/uploads/2017/04/coins.jpg
END:VEVENT
BEGIN:VEVENT
DTSTART;TZID=UTC:20170405T080000
DTEND;TZID=UTC:20170405T100000
DTSTAMP:20260422T003208
CREATED:20170221T101220Z
LAST-MODIFIED:20170320T133835Z
UID:1226-1491379200-1491386400@fie.is
SUMMARY:Morgunverðarfundur 5. apríl 2017 Grand Hótel
DESCRIPTION:Búið er að setja saman frábæran morgunverðarfund þann 5. apríl 2017. \nEr kostnaður allur sem hann er séður?\nEinar Guðbjartsson flytur fyrirlesturinn "Er kostnaður\, allur sem hann er séður?". Einar er dósent\, Hl. og er formaður faghóps um Kostnaðarstjórnun og - greiningu hjá Stjórnvísi. \n\nEr pínulítill Indriði í okkur öllum?\n \nÁgúst Hrafnkelsson formaður FIE fer m.a. yfir helstu breytingar á stöðlum IIA \nMorgunverður og kaffi í boði. Fundurinn verður á Grand Hótel\, Gullteigi B. \n  \nVerð 3.500.- kr og fást 2 endurmenntunareiningar fyrir fundinn. Morgunverðarfundir eru seldir á kostnaðarverði. \nSkráning með tölvupósti á fie@fie.is til kl 10:00 þriðjudaginn 4. apríl. Vinsamlegast tilkynnið forföll fyrir þann tíma að öðrum kosti er skráning bindandi. \nFræðslunefndin. \n 
URL:https://fie.is/vidburdur/morgunverdarfundur-5-april-2017-grand-hotel/
LOCATION:Grand Hótel Reykjavík\, Sigtúni 38\, Reykjavík\, 105\, Iceland
CATEGORIES:Morgunverðarfundur
ATTACH;FMTTYPE=image/jpeg:https://fie.is/wp-content/uploads/2017/01/Capture-2.jpg
ORGANIZER;CN="Gu%C3%B0mundur I Berg%C3%BE%C3%B3rsson":MAILTO:Gudmundur.I.Bergthorsson@or.is
END:VEVENT
BEGIN:VEVENT
DTSTART;TZID=UTC:20170324T080000
DTEND;TZID=UTC:20170324T120000
DTSTAMP:20260422T003208
CREATED:20170313T095952Z
LAST-MODIFIED:20170313T103947Z
UID:1317-1490342400-1490356800@fie.is
SUMMARY:Innri endurskoðunardagurinn 2017
DESCRIPTION:Innri endurskoðunardagurinn 2017 verður haldinn á Hótel Natura 24. mars 2017. \nSKRÁNING HÉR \n 
URL:https://fie.is/vidburdur/innri-endurskodunardagurinn-skraning/
LOCATION:Hótel Natura\, Nautholsvegur 52\, Reykjavík\, 101\, Iceland
ATTACH;FMTTYPE=image/jpeg:https://fie.is/wp-content/uploads/2017/03/FIE_dagskra-1.jpg
ORGANIZER;CN="Stj%C3%B3rn F%C3%A9lags um innri endursko%C3%B0un":MAILTO:fie@fie.is
END:VEVENT
BEGIN:VEVENT
DTSTART;TZID=UTC:20170306T082000
DTEND;TZID=UTC:20170306T101000
DTSTAMP:20260422T003208
CREATED:20170226T204341Z
LAST-MODIFIED:20170226T204341Z
UID:1243-1488788400-1488795000@fie.is
SUMMARY:Morgunverðarfundur 6. mars Ármúla 11
DESCRIPTION:Samskiptahæfni\, verum ósammála á jákvæðan hátt. \nDale Carnegie er með góðan fyrirlestur um samskiptahæfni. Við vitum öll hve mikilvæg samskipti eru í okkar vinnu og teljum við að þessi vinnustofa geti komið að góðum notum í okkar störfum. \nFyrirlesari er Sverrir Sigursveinsson B.Sc. Fjármál og Reikningshald. Starfað við fjármál og reikningshald ma. Hjá Landsvirkjun\, Íslandsbanka\, Slitastjórn Glitnis o.fl. \nVerð: 3.000 kr.\nStaður: Ármúli 11. \nSkráning í tölvupósti á fie@fie.is til föstudagsins 3. mars nk.\nÞáttaka gefur 2 endurmenntunareiningar.
URL:https://fie.is/vidburdur/morgunverdarfundur-6-mars-armula-11/
CATEGORIES:Morgunverðarfundur
ORGANIZER;CN="Gu%C3%B0mundur I Berg%C3%BE%C3%B3rsson":MAILTO:Gudmundur.I.Bergthorsson@or.is
END:VEVENT
BEGIN:VEVENT
DTSTART;TZID=UTC:20170215T083000
DTEND;TZID=UTC:20170215T100000
DTSTAMP:20260422T003208
CREATED:20170125T142802Z
LAST-MODIFIED:20170125T143104Z
UID:1213-1487147400-1487152800@fie.is
SUMMARY:Fundur hjá opinbera hópi FIE
DESCRIPTION:Fundur hjá opinbera hópi FIE verður haldinn í borgarráðsherbergi Ráðhúss Reykjavíkur miðvikudaginn 15. febrúar nk. kl. 8:30-10:00. \nHallur Símonarson\, innri endurskoðandi Reykjavíkurborgar\, tekur á móti hópnum og fjallar um innri endurskoðun Reykjavíkurborgar\, starfsumhverfi og viðfangsefni sem deildin stendur frammi fyrir. \nHvetjum alla þá sem starfa fyrir það opinbera og aðra sem áhuga hafa til að mæta. \nVinsamlegast takið frá tíma í dagbókunum ykkar og skráið þátttöku fyrir kl. 13.00 mánudaginn 13. febrúar nk. með því að senda póst á fie@fie.is. \nBestu kveðjur\, \nOpinberi hópur FIE
URL:https://fie.is/vidburdur/fundur-hja-opinbera-hopi-fie/
LOCATION:Ráðhús Reykjavíkur\, Tjarnargata 11\, Reykjavik\, 101\, Iceland
CATEGORIES:Faghópsfundir
ATTACH;FMTTYPE=image/jpeg:https://fie.is/wp-content/uploads/2017/01/Capture-1.jpg
END:VEVENT
BEGIN:VEVENT
DTSTART;TZID=UTC:20161208T160000
DTEND;TZID=UTC:20161208T180000
DTSTAMP:20260422T003208
CREATED:20161105T141055Z
LAST-MODIFIED:20161105T165439Z
UID:1114-1481212800-1481220000@fie.is
SUMMARY:Jólafundur - Hótel Natura
DESCRIPTION:Svindl og svínarí – hugvekja um viðhorf til ólíkra fagstétta\nBjarni Karlsson MA í siðfræði og prestur við sálgæslustofuna Haf flytur erindið „Svindl og svínarí - Almenningsálitið og fagleg sjálfsmynd“. \nÍ erindi sínu fjallar hann um miðsjöfn viðhorf til ólíkra fagstétta og hugsanlegar forsendur þeirra. Þá lýsir hann því hvernig bregðast megi við fagstétta-fordómum um leið og hann leggur fram eigin sýn á inntak faglegrar ábyrgðar. Loks verður boðið til umræðu um efnið. \nSkráning fer fram á fie@fie.is\, verð kr. 3.000.- og gefur 1 endurmenntunareiningu. \n  \n 
URL:https://fie.is/vidburdur/jolafundur-hotel-natura/
LOCATION:Hótel Natura\, Nautholsvegur 52\, Reykjavík\, 101\, Iceland
CATEGORIES:Fræðslunefndarfundur
ATTACH;FMTTYPE=image/jpeg:https://fie.is/wp-content/uploads/2016/11/20111208-christmas-beer-group.jpg
ORGANIZER;CN="Gu%C3%B0mundur I Berg%C3%BE%C3%B3rsson":MAILTO:Gudmundur.I.Bergthorsson@or.is
END:VEVENT
BEGIN:VEVENT
DTSTART;TZID=UTC:20161201T083000
DTEND;TZID=UTC:20161201T100000
DTSTAMP:20260422T003208
CREATED:20161114T090816Z
LAST-MODIFIED:20161114T090914Z
UID:1124-1480581000-1480586400@fie.is
SUMMARY:Fundur í faghópi um innri endurskoðun fjármálafyrirtækja
DESCRIPTION:Fundur verður haldinn í faghópi um innri endurskoðun fjármálafyrirtækja 1. desember næstkomandi kl 8:30 í höfuðstöðvum Landsbankans að Austurstræti 11*. Áætlað er að fundinum ljúki um kl 10. \nFjallað verður um úttektir innri endurskoðunar bankans á upplýsingatækni.  Helga Sigurjónsdóttir og Björn Snær Atlason sérfræðingar hjá innri endurskoðun Landsbankans kynna og svara spurningum. \nBoðið verður uppá morgunhressingu. \nVinsamlegast tilkynnið þátttöku fyrir kl. 18:00 mánudaginn 28. nóvember nk. \nVonumst til að sjá sem flesta. \nBestu kveðjur\, \nUmsjónarmaður faghóps um innri endurskoðun fjármálafyrirtækja \n*Gengið er inn um inngang í Austurstræti við hlið Laundromat\, beint á móti ÁTVR.
URL:https://fie.is/vidburdur/fundur-faghopi-um-innri-endurskodun-fjarmalafyrirtaekja/
LOCATION:Landsbanki Íslands\, Austurstræti 11\, Reykjavík\, Reykjavík\, 101\, Iceland
CATEGORIES:Faghópsfundir
ATTACH;FMTTYPE=image/jpeg:https://fie.is/wp-content/uploads/2016/11/logo_blatt_s.jpg
END:VEVENT
BEGIN:VEVENT
DTSTART;TZID=UTC:20161123T080000
DTEND;TZID=UTC:20161123T100000
DTSTAMP:20260422T003208
CREATED:20161104T131827Z
LAST-MODIFIED:20161108T122919Z
UID:1107-1479888000-1479895200@fie.is
SUMMARY:Morgunverðarfundur 23. nóvember 2016 - Center Hótel Plaza
DESCRIPTION:Næsti morgunverðarfundur verður ótrúlega spennandi þar sem tveir frábærir fyrirlesarar\, Hinrik Pálsson (afbrota- og viðskiptafræðingur) og Rakel Ásgeirsdóttir (hdl.) munu mæta til okkar og halda erindi um sviksemi.\nAthugið að fundurinn er á Hótel Center Plaza í miðbæ Reykjavíkur.  Bílastæðahús er í Mjóstræti og Ráðhúsi Reykjavíkur ásamt fleiri bílastæðum um miðbæinn.\nLéttur morgunverður ásamt kaffi í boði.\nSkráning með tölvupósti á fie@fie.is.\nVerð 3.000.- og fást 2 endurmenntunareiningar fyrir fundinn.
URL:https://fie.is/vidburdur/morgunverdarfundur-23-november-2016-center-hotel-plaza/
LOCATION:Center Hótel Plaza\, Aðalstræti 4\, Reykjaík\, 101\, Iceland
CATEGORIES:Morgunverðarfundur
ATTACH;FMTTYPE=image/jpeg:https://fie.is/wp-content/uploads/2016/11/law-office-lawyers-in-your-city.jpg
ORGANIZER;CN="Gu%C3%B0mundur I Berg%C3%BE%C3%B3rsson":MAILTO:Gudmundur.I.Bergthorsson@or.is
END:VEVENT
END:VCALENDAR