BEGIN:VCALENDAR
VERSION:2.0
PRODID:-//Félag um innri endurskoðun - ECPv6.15.18//NONSGML v1.0//EN
CALSCALE:GREGORIAN
METHOD:PUBLISH
X-ORIGINAL-URL:https://fie.is
X-WR-CALDESC:Events for Félag um innri endurskoðun
REFRESH-INTERVAL;VALUE=DURATION:PT1H
X-Robots-Tag:noindex
X-PUBLISHED-TTL:PT1H
BEGIN:VTIMEZONE
TZID:UTC
BEGIN:STANDARD
TZOFFSETFROM:+0000
TZOFFSETTO:+0000
TZNAME:UTC
DTSTART:20200101T000000
END:STANDARD
END:VTIMEZONE
BEGIN:VEVENT
DTSTART;TZID=UTC:20210318T083000
DTEND;TZID=UTC:20210318T100000
DTSTAMP:20260421T140813
CREATED:20200921T131107Z
LAST-MODIFIED:20210309T153453Z
UID:2832-1616056200-1616061600@fie.is
SUMMARY:Fræðslufundur - Wirecard málið
DESCRIPTION:Fyrirlesari er Hinrik Pálsson og ætlar hann að fræða okkur um Wirecard málið.
URL:https://fie.is/vidburdur/fraedslufundur-utmal/
CATEGORIES:Fræðslunefndarfundur
END:VEVENT
END:VCALENDAR