BEGIN:VCALENDAR
VERSION:2.0
PRODID:-//Félag um innri endurskoðun - ECPv6.15.18//NONSGML v1.0//EN
CALSCALE:GREGORIAN
METHOD:PUBLISH
X-ORIGINAL-URL:https://fie.is
X-WR-CALDESC:Events for Félag um innri endurskoðun
REFRESH-INTERVAL;VALUE=DURATION:PT1H
X-Robots-Tag:noindex
X-PUBLISHED-TTL:PT1H
BEGIN:VTIMEZONE
TZID:UTC
BEGIN:STANDARD
TZOFFSETFROM:+0000
TZOFFSETTO:+0000
TZNAME:UTC
DTSTART:20200101T000000
END:STANDARD
END:VTIMEZONE
BEGIN:VEVENT
DTSTART;TZID=UTC:20211008T110000
DTEND;TZID=UTC:20211008T131500
DTSTAMP:20260421T042948
CREATED:20210824T113216Z
LAST-MODIFIED:20210824T113216Z
UID:3240-1633690800-1633698900@fie.is
SUMMARY:Join the 70th Anniversary Celebration and Meet IIA President and CEO Anthony J. Pugliese
DESCRIPTION:Join the 70th Anniversary Celebration and Meet IIA President and CEO Anthony J. Pugliese \n  \nOn 8 October 1951\, IIA Denmark\, IIA Norway and IIA Sweden met in Oslo to form The Scandinavian Chapter of the Institute of Internal Auditors; IIA Finland and IIA Iceland joined The Scandinavian Chapter a little later. The Scandinavian Chapter was the second institute to be formed outside the USA\, making us one of the oldest institutes in Europe. Later\, each country formed its own national institute. \nThe Nordic institutes invite all members to mark this 70th anniversary in a joint online event on Friday 8 October from 13.00-15.15 CET (11:00-13:15 in Iceland)\, where you will also get the opportunity to meet IIA Global's new President and CEO Anthony J. Pugliese. \nAgenda: \n13.00-13:10 (11:00-11:10) Welcome Chairman of IIA Sweden Michael Sparreskog \n13.10-13.45 (11:10-11:45) Past and present - short introductions from IIA Denmark\, Finland\, Iceland\, Norway and Sweden \n13.45-14.15 (11:45-12:15) The future of internal auditing Dr. Rainer Lenz\, CAE SAF-HOLLAND Group \n14.15-15.15 (12:15-13:15) The profession and the Institute going forward - IIA President & CEO Anthony Pugliese \n  \nYou will receive two CPEs when you join the celebration on Teams. \n  \nUse this link to register \nhttps://www.theiia.se/utbildningar_aktiviteter/#!educourse=523058
URL:https://fie.is/vidburdur/join-the-70th-anniversary-celebration-and-meet-iia-president-and-ceo-anthony-j-pugliese/
END:VEVENT
END:VCALENDAR