BEGIN:VCALENDAR
VERSION:2.0
PRODID:-//Félag um innri endurskoðun - ECPv6.15.18//NONSGML v1.0//EN
CALSCALE:GREGORIAN
METHOD:PUBLISH
X-ORIGINAL-URL:https://fie.is
X-WR-CALDESC:Events for Félag um innri endurskoðun
REFRESH-INTERVAL;VALUE=DURATION:PT1H
X-Robots-Tag:noindex
X-PUBLISHED-TTL:PT1H
BEGIN:VTIMEZONE
TZID:UTC
BEGIN:STANDARD
TZOFFSETFROM:+0000
TZOFFSETTO:+0000
TZNAME:UTC
DTSTART:20210101T000000
END:STANDARD
END:VTIMEZONE
BEGIN:VEVENT
DTSTART;TZID=UTC:20221205T140000
DTEND;TZID=UTC:20221205T163000
DTSTAMP:20260420T223821
CREATED:20221123T212209Z
LAST-MODIFIED:20221123T212209Z
UID:3584-1670248800-1670257800@fie.is
SUMMARY:Fræðsla - Ethics in the real world
DESCRIPTION:Ethics in the real world. Since 2017 the IIA has had a requirement for members to take a 2-hour CPE course each year on the subject of ethics. This area is especially highlighted because of its key role in helping internal audit to be independent and objective. \nTo date there has been a lot of training on “the basics” of ethics. However\, “Ethics in the Real world” moves beyond the straight-forward aspects of ethics and considers the real-world challenges that might face auditors and how they might decide what to do. It also looks at the “real world” challenges and pressures that managers face and will help auditors to look at these issues in an insightful and value adding way. \nThis course is offered by IIA Iceland and will take place online and on demand. The course is presented by James Paterson and will give 2-2\,5 CPE points. This course is open for all IIA members in the Nordic\, you can register here\, for the online event. \nSjá nánar hér.
URL:https://fie.is/vidburdur/fraedsla-ethics-in-the-real-world/
CATEGORIES:Námskeið
END:VEVENT
BEGIN:VEVENT
DTSTART;TZID=UTC:20221207T120000
DTEND;TZID=UTC:20221207T140000
DTSTAMP:20260420T223821
CREATED:20221129T135810Z
LAST-MODIFIED:20221129T161013Z
UID:3598-1670414400-1670421600@fie.is
SUMMARY:Faghópur í Upplýsingatækni
DESCRIPTION:Nokkrir félagar FIE hafa tekið höndum saman og endurvakið faghóp í upplýsingatækni innan FIE.\nÞað eru þó nokkuð margir félagar sem eru einnig meðlimir í ISACA samtökunum og aðrir sem vilja fá dýpri þekkingu á ákveðnum atriðum sem tengjast endurskoðun upplýsingakerfa og um upplýsingaöryggi og því teljum við vera þörf fyrir sérstakan faghóp UT. Þá er það þekkt í öðrum löndum að IIA og ISACA sameina krafta sína með fræðsluefni og vonandi getum við gert það líka. \nVið viljum því boða til fyrsta fundar núna 7. desember kl 12.00-14.00 í húsnæði Íslandsbanka\, Norðurturni Smáralindar 9. hæð\, bæði til að taka framhald af umræðu frá í vor um nýju EBA/ICT guidelines og einnig til að heyra frá ykkur um væntingar/óskir um fræðsluefni. Einn ráðstefnuþátttakandi mun koma með samantekt af því helsta sem kom fram á ISACA ráðstefnunni sem haldin var í Róm núna í október sl. \nUmræðuefni fundarins verða eftirfarandi: \n\nEBA/ICT guidelines – hvaða greinar voru erfiðar í túlkun?\nEignaskrár (upplýsingakerfa) – hvaða lausnir eru þið að nota?\nHvaða fræðsluefni telur þú þörf fyrir í þínum störfum.\n\nÞessi fundur myndi gefa 2 endurmenntunareiningar.\nAðgangur er ókeypis\, en nauðsynlegt er að skrá mætingu hér.\nÍslandsbanki býður uppá léttar veitingar.
URL:https://fie.is/vidburdur/faghopur-i-upplysingataekni/
LOCATION:Íslandsbanki\, Hlíðasmári 3\, Kópavogur\, Iceland
END:VEVENT
END:VCALENDAR